BEGIN:VCALENDAR
VERSION:2.0
PRODID:-//The Society of Catholic Scientists - ECPv6.15.14//NONSGML v1.0//EN
CALSCALE:GREGORIAN
METHOD:PUBLISH
X-ORIGINAL-URL:https://catholicscientists.org
X-WR-CALDESC:Events for The Society of Catholic Scientists
REFRESH-INTERVAL;VALUE=DURATION:PT1H
X-Robots-Tag:noindex
X-PUBLISHED-TTL:PT1H
BEGIN:VTIMEZONE
TZID:UTC
BEGIN:STANDARD
TZOFFSETFROM:+0000
TZOFFSETTO:+0000
TZNAME:UTC
DTSTART:20230101T000000
END:STANDARD
END:VTIMEZONE
BEGIN:VEVENT
DTSTART;TZID=UTC:20241213T190000
DTEND;TZID=UTC:20241213T190000
DTSTAMP:20260424T004241
CREATED:20241127T165718Z
LAST-MODIFIED:20241127T165718Z
UID:9386-1734116400-1734116400@catholicscientists.org
SUMMARY:Public Lecture on Dec 13\, 2024\, in Toronto\, ON\, Canada
DESCRIPTION:There will be a Public Lecture at 7:00pm on Friday\, Dec 13\, in Toronto\, Canada\, at a Downtown location to be announced. \nThe speaker will Dr. Sonsoles de la Calle\, and the title of her talk will be “Made for Connection: Neurobiology and Human Interconnectedness.”  This event is sponsored by the Toronto Chapter of SCS\, \nAbstract: \nWhat is human nature\, and how do we come to understand it through reason\, science\, philosophy\, and faith? Personalistic philosophies\, such as those proposed by K. Wojtyla (Pope St. John Paul II) and D. Von Hildebrand\, describe the human as a person with bodily\, psychic and spiritual dimensions tightly intertwined\, so much so that it is impossible not to see the impact of each dimension in the manifestations of the others. This integrative view of the person is particularly well suited as a base for its relationality\, its interaction with the world and with other persons.  Where the philosophical discourse may arrive to the theoretical explanation of relationality\, neuroscience illuminates with empirical data in what way bodily reality contributes to human relationality\, highlighting from a biological perspective how this basic need for connectedness is essential to health and human flourishing. In fact\, I propose that hardwired neural mechanisms\, that is\, biologically primed and discernible in the basic structure and systems of the brain— support attachment behavior\, relationality and connectedness\, and will present evidence of how this is expressed particularly well (and intensely) in marriage. \nBiography of the Speaker:  \nSonsoles de Lacalle obtained her M.D./Ph.D. from the University of Navarra (Spain). In 1990 she moved to the US with a Fulbright Fellowship to train with Prof. Clif B. Saper in the Department of Pharmacological and Physiological Sciences at the University of Chicago. Her academic experience includes teaching and research in a medical setting (at the Pritzker School of Medicine\, Harvard Medical School\, and at Ohio University’s College of Medicine) and in predominantly undergraduate institutions (CSU Los Angeles\, C. R. Drew University and currently at CSU Channel Islands).
URL:https://catholicscientists.org/event/public-lecture-on-dec-13-2024-in-toronto-on-canada/
CATEGORIES:
ATTACH;FMTTYPE=image/jpeg:https://catholicscientists.org/content/uploads/2024/11/toronto.jpg
END:VEVENT
END:VCALENDAR