BEGIN:VCALENDAR
VERSION:2.0
PRODID:-//The Society of Catholic Scientists - ECPv6.15.14//NONSGML v1.0//EN
CALSCALE:GREGORIAN
METHOD:PUBLISH
X-ORIGINAL-URL:https://catholicscientists.org
X-WR-CALDESC:Events for The Society of Catholic Scientists
REFRESH-INTERVAL;VALUE=DURATION:PT1H
X-Robots-Tag:noindex
X-PUBLISHED-TTL:PT1H
BEGIN:VTIMEZONE
TZID:America/Indiana/Indianapolis
BEGIN:DAYLIGHT
TZOFFSETFROM:-0500
TZOFFSETTO:-0400
TZNAME:EDT
DTSTART:20230312T070000
END:DAYLIGHT
BEGIN:STANDARD
TZOFFSETFROM:-0400
TZOFFSETTO:-0500
TZNAME:EST
DTSTART:20231105T060000
END:STANDARD
BEGIN:DAYLIGHT
TZOFFSETFROM:-0500
TZOFFSETTO:-0400
TZNAME:EDT
DTSTART:20240310T070000
END:DAYLIGHT
BEGIN:STANDARD
TZOFFSETFROM:-0400
TZOFFSETTO:-0500
TZNAME:EST
DTSTART:20241103T060000
END:STANDARD
BEGIN:DAYLIGHT
TZOFFSETFROM:-0500
TZOFFSETTO:-0400
TZNAME:EDT
DTSTART:20250309T070000
END:DAYLIGHT
BEGIN:STANDARD
TZOFFSETFROM:-0400
TZOFFSETTO:-0500
TZNAME:EST
DTSTART:20251102T060000
END:STANDARD
END:VTIMEZONE
BEGIN:VTIMEZONE
TZID:UTC
BEGIN:STANDARD
TZOFFSETFROM:+0000
TZOFFSETTO:+0000
TZNAME:UTC
DTSTART:20230101T000000
END:STANDARD
END:VTIMEZONE
BEGIN:VEVENT
DTSTART;TZID=America/Indiana/Indianapolis:20241113T173000
DTEND;TZID=America/Indiana/Indianapolis:20241113T173000
DTSTAMP:20260424T022317
CREATED:20240924T195530Z
LAST-MODIFIED:20240925T220206Z
UID:8904-1731519000-1731519000@catholicscientists.org
SUMMARY:Public Lecture on Nov 13\, 2024\, near Purdue University\, West Lafayette\, IN.
DESCRIPTION:There will be a Public Lecture on Wednesday\, Nov 13\, at 5:30pm at St Thomas Aquinas Church near Purdue University (535 W State Street\, West Lafayette).  The title of the lecture will be “What is the Brain?”  The speaker will be Dr. Sofia Carozza of Harvard Medical School. \nThere will be a reception downstairs in Newman Hall before the lecture\, at 4:30pm. \nThe event is hosted by the Purdue Chapter of the Society of Catholic Scientists\, and co-sponsored by the Thomas Aquinas Foundation\, Purdue’s Religious Studies Program\, and St. Thomas Aquinas Parish. \nFor more information\, see https://boilercatholics.org/events/whatisthebrain or contact mcclurej@purdue.edu  \n 
URL:https://catholicscientists.org/event/public-lecture-on-nov-13-2024-near-purdue-university-west-lafayette-in/
CATEGORIES:
ATTACH;FMTTYPE=image/jpeg:https://catholicscientists.org/content/uploads/2024/02/st-thomas-aquinas-at-purdue.jpg
END:VEVENT
BEGIN:VEVENT
DTSTART;TZID=UTC:20241114T190000
DTEND;TZID=UTC:20241114T190000
DTSTAMP:20260424T022317
CREATED:20241101T160304Z
LAST-MODIFIED:20241101T160304Z
UID:9200-1731610800-1731610800@catholicscientists.org
SUMMARY:Lecture on Nov 14\, 2024 at University of Toronto\, in Toronto\, ON\, Canada.
DESCRIPTION:There will be a Public Lecture at 7:00pm on Thursday\, Nov 14\, in Room 400\, Alumni Hall of the University of Toronto (12 St. Joseph Street\, Toronto).  The lecture is by Dr. William Hurlbut of the Univ. of Stanford Medical Center and is entitled\, “The Challenges of Genome Editing: Scientific and Ethical Considerations.” \nThis event is sponsored by the Thomistic Institute of the University of Toronto and co-sponsored by the Toronto College Chapter of the Society of Catholic Scientists.
URL:https://catholicscientists.org/event/lecture-on-nov-14-2024-at-university-of-toronto-in-toronto-on-canada/
CATEGORIES:
ATTACH;FMTTYPE=image/jpeg:https://catholicscientists.org/content/uploads/2024/11/toronto-alumni-hall.jpg
END:VEVENT
END:VCALENDAR