BEGIN:VCALENDAR
VERSION:2.0
PRODID:-//The Society of Catholic Scientists - ECPv6.15.14//NONSGML v1.0//EN
CALSCALE:GREGORIAN
METHOD:PUBLISH
X-WR-CALNAME:The Society of Catholic Scientists
X-ORIGINAL-URL:https://catholicscientists.org
X-WR-CALDESC:Events for The Society of Catholic Scientists
REFRESH-INTERVAL;VALUE=DURATION:PT1H
X-Robots-Tag:noindex
X-PUBLISHED-TTL:PT1H
BEGIN:VTIMEZONE
TZID:America/Chicago
BEGIN:DAYLIGHT
TZOFFSETFROM:-0600
TZOFFSETTO:-0500
TZNAME:CDT
DTSTART:20230312T080000
END:DAYLIGHT
BEGIN:STANDARD
TZOFFSETFROM:-0500
TZOFFSETTO:-0600
TZNAME:CST
DTSTART:20231105T070000
END:STANDARD
BEGIN:DAYLIGHT
TZOFFSETFROM:-0600
TZOFFSETTO:-0500
TZNAME:CDT
DTSTART:20240310T080000
END:DAYLIGHT
BEGIN:STANDARD
TZOFFSETFROM:-0500
TZOFFSETTO:-0600
TZNAME:CST
DTSTART:20241103T070000
END:STANDARD
BEGIN:DAYLIGHT
TZOFFSETFROM:-0600
TZOFFSETTO:-0500
TZNAME:CDT
DTSTART:20250309T080000
END:DAYLIGHT
BEGIN:STANDARD
TZOFFSETFROM:-0500
TZOFFSETTO:-0600
TZNAME:CST
DTSTART:20251102T070000
END:STANDARD
END:VTIMEZONE
BEGIN:VTIMEZONE
TZID:America/New_York
BEGIN:DAYLIGHT
TZOFFSETFROM:-0500
TZOFFSETTO:-0400
TZNAME:EDT
DTSTART:20230312T070000
END:DAYLIGHT
BEGIN:STANDARD
TZOFFSETFROM:-0400
TZOFFSETTO:-0500
TZNAME:EST
DTSTART:20231105T060000
END:STANDARD
BEGIN:DAYLIGHT
TZOFFSETFROM:-0500
TZOFFSETTO:-0400
TZNAME:EDT
DTSTART:20240310T070000
END:DAYLIGHT
BEGIN:STANDARD
TZOFFSETFROM:-0400
TZOFFSETTO:-0500
TZNAME:EST
DTSTART:20241103T060000
END:STANDARD
BEGIN:DAYLIGHT
TZOFFSETFROM:-0500
TZOFFSETTO:-0400
TZNAME:EDT
DTSTART:20250309T070000
END:DAYLIGHT
BEGIN:STANDARD
TZOFFSETFROM:-0400
TZOFFSETTO:-0500
TZNAME:EST
DTSTART:20251102T060000
END:STANDARD
END:VTIMEZONE
BEGIN:VEVENT
DTSTART;TZID=America/Chicago:20241011T190000
DTEND;TZID=America/Chicago:20241011T190000
DTSTAMP:20260424T035413
CREATED:20241009T153518Z
LAST-MODIFIED:20241009T154759Z
UID:9033-1728673200-1728673200@catholicscientists.org
SUMMARY:Science-Faith Lecture Series on Oct 11\, Oct 25\, and Nov 15\, 2024\, in St. Paul\, MN.
DESCRIPTION:Lecture Series in St. Paul\, MN\, on October 11\, October 25\, November 15. \nReserve a spot today!  https://nativitystpaul.org/faith-and-science   \nThe first lecture is on Friday\, October 11\, at 7:00pm in the school library at Nativity of Our Lord Catholic Church (1938 Stanford Ave\, St Paul\, MN 55105).  Prof. Peter Distelzweig of the University of Saint Thomas will speak about “Reflecting on Science and Catholicism in Light of the Galileo Affair.” in the school library at 7:00 PM at Nativity of Our Lord Catholic Church.  Prof. Distelzweig is a Scholar Associate of SCS. \nThe second lecture is on Friday\, October 25\, at 7:00pm in the school library at Nativity of Our Lord Catholic Church (1938 Stanford Ave\, St Paul\, MN 55105).  Prof.  Kenneth Kemp\, Professor Emeritus at the University of Saint Thomas\, will speak on “Letting the Earth Bring Forth Living Things: Evolution & Catholic Theology.” His research interests include the history and philosophy of science\, with a particular focus on the relationship between science and religion. He is the author of The War That Never Was: Evolution and Christian Theology (2020) and of The Origins of Catholic Evolutionism\, 1831–1950 (forthcoming). Prof. Kemp is a Scholar Associate of SCS. \nThe third lecture is on Friday\, November 15th and will be preceded by a Gold Mass for science professionals at the Cathedral of Saint Paul (239 Selby Ave\, St Paul\, MN 55102). Mass will begin at 5:15pm in the main sanctuary followed by a presentation in Hays Hall and refreshments. The Speaker for the Gold Mass Lecture is TBD. \nThese events are co-sponsored by the Society of Catholic Scientists.  Note to Minnesota SCS members:  SCS is forming a Twin Cities Chapter of SCS.  Contact smpbarr@gmail.com if interested in joining. \n  \n 
URL:https://catholicscientists.org/event/science-faith-lecture-series-on-oct-11-oct-25-and-nov-15-2024-in-st-paul-mn/
CATEGORIES:
ATTACH;FMTTYPE=image/jpeg:https://catholicscientists.org/content/uploads/2024/10/nativity-of-our-lord-CC-in-St.-Paul.jpg
END:VEVENT
BEGIN:VEVENT
DTSTART;TZID=America/New_York:20241029T194500
DTEND;TZID=America/New_York:20241029T194500
DTSTAMP:20260424T035413
CREATED:20241001T231618Z
LAST-MODIFIED:20241001T231618Z
UID:8987-1730231100-1730231100@catholicscientists.org
SUMMARY:Lecture on Oct 29\, 2025\, at University of Pennsylvania Newman Center\, Philadelphia\, PA.
DESCRIPTION:The Collegium Institute at the University of Pennsylvania is sponsoring a “Magi Project Lecture” on Tuesday\, October 29\, at 7:45pm at the Penn Newman Center (111 S 38th St\, Philadelphia\, PA 19104).  The lecture will be given by Fr. Nicanor Austriaco\, O.P. and will be entitled “Defining Death in a Technological Age: The Scientific\, Moral\, and Philosophical Debate about the Legal End of Life.”   \nRev. Fr. Nicanor Austriaco\, O.P. is a Professor of Biological Sciences & Professor of Sacred Theology at the University of Santo Tomas in the Philippines. One of the leading Catholic public intellectuals from our own university community\, Fr. Austriaco received his BSE in Engineering from the University of Pennsylvania in 1989. He holds multiple doctorates\, including a PhD in Biology from the Massachusetts Institute of Technology and a SThD from the University of Fribourg in Switzerland. Fr. Austriaco taught at Providence College from 2005 to 2022 before moving to the Philippines where his UST lab is developing a yeast delivery platform for vaccines. His first book\, Biomedicine and Beatitude: An Introduction to Catholic Bioethics\, was recognized as a 2012 Choice outstanding academic title by the Association of College and Research Libraries. He has served as a founding board member of the Society for Catholic Scientists and as the Director of ThomisticEvolution.org.
URL:https://catholicscientists.org/event/lecture-on-oct-29-2025-at-university-of-pennsylvania-newman-center-philadelphia-pa/
CATEGORIES:
ATTACH;FMTTYPE=image/jpeg:https://catholicscientists.org/content/uploads/2024/10/penn-newman.jpg
END:VEVENT
END:VCALENDAR