BEGIN:VCALENDAR
VERSION:2.0
PRODID:-//The Society of Catholic Scientists - ECPv6.15.14//NONSGML v1.0//EN
CALSCALE:GREGORIAN
METHOD:PUBLISH
X-WR-CALNAME:The Society of Catholic Scientists
X-ORIGINAL-URL:https://catholicscientists.org
X-WR-CALDESC:Events for The Society of Catholic Scientists
REFRESH-INTERVAL;VALUE=DURATION:PT1H
X-Robots-Tag:noindex
X-PUBLISHED-TTL:PT1H
BEGIN:VTIMEZONE
TZID:America/Vancouver
BEGIN:DAYLIGHT
TZOFFSETFROM:-0800
TZOFFSETTO:-0700
TZNAME:PDT
DTSTART:20220313T100000
END:DAYLIGHT
BEGIN:STANDARD
TZOFFSETFROM:-0700
TZOFFSETTO:-0800
TZNAME:PST
DTSTART:20221106T090000
END:STANDARD
BEGIN:DAYLIGHT
TZOFFSETFROM:-0800
TZOFFSETTO:-0700
TZNAME:PDT
DTSTART:20230312T100000
END:DAYLIGHT
BEGIN:STANDARD
TZOFFSETFROM:-0700
TZOFFSETTO:-0800
TZNAME:PST
DTSTART:20231105T090000
END:STANDARD
BEGIN:DAYLIGHT
TZOFFSETFROM:-0800
TZOFFSETTO:-0700
TZNAME:PDT
DTSTART:20240310T100000
END:DAYLIGHT
BEGIN:STANDARD
TZOFFSETFROM:-0700
TZOFFSETTO:-0800
TZNAME:PST
DTSTART:20241103T090000
END:STANDARD
END:VTIMEZONE
BEGIN:VTIMEZONE
TZID:America/New_York
BEGIN:DAYLIGHT
TZOFFSETFROM:-0500
TZOFFSETTO:-0400
TZNAME:EDT
DTSTART:20220313T070000
END:DAYLIGHT
BEGIN:STANDARD
TZOFFSETFROM:-0400
TZOFFSETTO:-0500
TZNAME:EST
DTSTART:20221106T060000
END:STANDARD
BEGIN:DAYLIGHT
TZOFFSETFROM:-0500
TZOFFSETTO:-0400
TZNAME:EDT
DTSTART:20230312T070000
END:DAYLIGHT
BEGIN:STANDARD
TZOFFSETFROM:-0400
TZOFFSETTO:-0500
TZNAME:EST
DTSTART:20231105T060000
END:STANDARD
BEGIN:DAYLIGHT
TZOFFSETFROM:-0500
TZOFFSETTO:-0400
TZNAME:EDT
DTSTART:20240310T070000
END:DAYLIGHT
BEGIN:STANDARD
TZOFFSETFROM:-0400
TZOFFSETTO:-0500
TZNAME:EST
DTSTART:20241103T060000
END:STANDARD
END:VTIMEZONE
BEGIN:VEVENT
DTSTART;TZID=America/Vancouver:20230928T173000
DTEND;TZID=America/Vancouver:20230928T173000
DTSTAMP:20260425T000408
CREATED:20230928T182349Z
LAST-MODIFIED:20230928T194319Z
UID:6063-1695922200-1695922200@catholicscientists.org
SUMMARY:Public Lecture on September 28 in Vancouver\, BC.
DESCRIPTION:There will be a Public Lecture at 5:30pm on Thursday\, Sept 28\, 2023\, in Vancouver\, BC\, at the University Chapel Scriptorium (lower level) (5375 University Blvd Vancouver\, BC V6T 1K3).  Dr. Ross Hastings will speak on “Chemical Evolution and Divine Providence.”\n\nLearn about the origins and evolution of the basic molecules that make up all life on Earth (e.g.\, RNA\, proteins\, and lipids) and contemplate how a Christian might view these scientific findings\, and other revelations about the natural world\, in the light of their faith in a loving Creator.\n\nFormat: 30 minute talk with Q&A over free pizza and light refreshments with socializing to follow\n\nRSVP here:\nhttps://www.catholicscientistsvan.org/
URL:https://catholicscientists.org/event/public-lecture-on-september-28-in-vancouver-bc/
CATEGORIES:
ATTACH;FMTTYPE=image/jpeg:https://catholicscientists.org/content/uploads/2023/09/UBC-university-chapel.jpg
END:VEVENT
BEGIN:VEVENT
DTSTART;TZID=America/New_York:20230929T180000
DTEND;TZID=America/New_York:20230929T180000
DTSTAMP:20260425T000408
CREATED:20230927T190145Z
LAST-MODIFIED:20231005T025408Z
UID:6046-1696010400-1696010400@catholicscientists.org
SUMMARY:Public Lecture and Reception on September 29\, 2023\, in Gainesville\, FL.
DESCRIPTION:There will be a Public Lecture at 6:00pm on Friday\, September 29\, 2023\, in Gainesville\, FL\, at Holy Faith Catholic Church in the Fr. John Phillips Parish Life Center (747 NW43rd St\, Gainesville\, FL 32607).  The title of the lecture is “The Catholic Faith and Modern Science: Understanding and Correcting Models of Conflict” and will be given by Dr. Christopher Baglow of the University of Notre Dame.  Dr. Baglow is Director of the Science & Religion Initiative of the McGrath Institute for Church Life at Notre Dame.  There will be refreshments after the lecture. \nFor more information\, email Paul Gulig gulig@ufl.edu
URL:https://catholicscientists.org/event/public-lecture-and-reception-on-september-29-2023-in-gainesville-fl/
CATEGORIES:
ATTACH;FMTTYPE=image/jpeg:https://catholicscientists.org/content/uploads/2023/09/Holy-Faith-CC-Gainesville.jpg
END:VEVENT
END:VCALENDAR