BEGIN:VCALENDAR
VERSION:2.0
PRODID:-//The Society of Catholic Scientists - ECPv6.15.14//NONSGML v1.0//EN
CALSCALE:GREGORIAN
METHOD:PUBLISH
X-WR-CALNAME:The Society of Catholic Scientists
X-ORIGINAL-URL:https://catholicscientists.org
X-WR-CALDESC:Events for The Society of Catholic Scientists
REFRESH-INTERVAL;VALUE=DURATION:PT1H
X-Robots-Tag:noindex
X-PUBLISHED-TTL:PT1H
BEGIN:VTIMEZONE
TZID:UTC
BEGIN:STANDARD
TZOFFSETFROM:+0000
TZOFFSETTO:+0000
TZNAME:UTC
DTSTART:20210101T000000
END:STANDARD
END:VTIMEZONE
BEGIN:VEVENT
DTSTART;TZID=UTC:20221102T190000
DTEND;TZID=UTC:20221102T190000
DTSTAMP:20260425T152450
CREATED:20221009T213337Z
LAST-MODIFIED:20221216T161907Z
UID:3134-1667415600-1667415600@catholicscientists.org
SUMMARY:Public Lecture at Purdue University\, West Lafayette\, IN\,  on Nov 2.
DESCRIPTION:There will be a Public Lecture at 7:00 PM on Wednesday\, Nov 2\, in the sanctuary of St. Thomas Aquinas Catholic Church at Purdue University in West Lafayette\, IN (535 W State St\, West Lafayette\, IN 47906). The lecture\, entitled “Science and Religion: the myth of conflict” will be give by Prof. Stephen M. Barr\, President of SCS. \nPreceding the lecture there will be a Gold Mass at 5:30 PM in the church\, followed by a reception at 6:30 PM. \nThis event is sponsored by the Purdue University Chapter of SCS and is partially funded by a generous grant from the John Templeton Foundation.
URL:https://catholicscientists.org/event/lecture-at-purdue-university-west-lafayette-in-on-nov-2/
CATEGORIES:
ATTACH;FMTTYPE=image/jpeg:https://catholicscientists.org/content/uploads/2022/10/Purdue-chapel.jpg
END:VEVENT
BEGIN:VEVENT
DTSTART;TZID=UTC:20221103T163000
DTEND;TZID=UTC:20221103T163000
DTSTAMP:20260425T152450
CREATED:20221002T181451Z
LAST-MODIFIED:20221027T182333Z
UID:3066-1667493000-1667493000@catholicscientists.org
SUMMARY:Public Lecture at Marian University in Indianapolis\, IN\, on Nov 3
DESCRIPTION:There will be a Public Lecture on Nov 3 at 4:30 PM in Alumni Hall at Marian University in Indianapolis (3200 Cold Spring Rd\, Indianapolis\, IN 46222). The lecture\, entitled “Science and Religion: the myth of conflict\,” will be given by Prof. Stephen M. Barr\, President of SCS. \nAfter the lecture there will be a Gold Mass at 5:30 PM in St. Joseph Chapel\, close by Alumni Hall. (See Campus Map)  Following the Gold Mass there will be a reception at Alumni Hall. \nHERE is a link to a Parking Pass to park on the Marian University campus for these events.
URL:https://catholicscientists.org/event/public-lecture-at-marian-university-in-indianapolis-in-on-nov-3/
CATEGORIES:
ATTACH;FMTTYPE=image/jpeg:https://catholicscientists.org/content/uploads/2022/10/Marian-College.jpg
END:VEVENT
BEGIN:VEVENT
DTSTART;TZID=UTC:20221108T183000
DTEND;TZID=UTC:20221108T183000
DTSTAMP:20260425T152450
CREATED:20220828T214013Z
LAST-MODIFIED:20221216T161335Z
UID:2629-1667932200-1667932200@catholicscientists.org
SUMMARY:Public Lecture at Aquinas College (MI) on Nov 8.
DESCRIPTION:There will be a Public Lecture on Nov 8 at 6:30 PM in Albertus Magnus Hall on the campus of Aquinas College in Grand Rapids\, MI. The lecture\, entitled “Scientists Reading the Book of Creation\,” will be given by Sr. Damien Marie Savino\, F.S.E.\, Ph.D.\, who is Dean of Science and Sustainability at Aquinas College.  (Sr. Damien Marie Savino gave the keynote address at the 2022 SCS conference in June.) \nPreceding the lecture\, at 4:30 PM\, there will be a Gold Mass celebrated by Bishop David Walkowiak\, Bishop of the Grand Rapids diocese\, held in Our Lady\, Seat of Wisdom chapel on the Aquinas College campus [1700 Fulton Street E\, Grand Rapids\, MI 49503]. A reception will follow the Mass and will be held in the Albertus Magnus Hall of Science\, followed by the Lecture at 6:30 PM. \nThis event is sponsored by Aquinas College\, the Michigan Chapter of SCS\, and is partially funded by a generous grant from the John Templeton Foundation. \n 
URL:https://catholicscientists.org/event/public-lecture-at-aquinas-college/
CATEGORIES:
ATTACH;FMTTYPE=image/jpeg:https://catholicscientists.org/content/uploads/2022/08/Albertus-Magnus-Hall.jpg
END:VEVENT
BEGIN:VEVENT
DTSTART;TZID=UTC:20221113T110000
DTEND;TZID=UTC:20221113T110000
DTSTAMP:20260425T152450
CREATED:20221001T002718Z
LAST-MODIFIED:20221216T161148Z
UID:3045-1668337200-1668337200@catholicscientists.org
SUMMARY:Harvard-MIT "St. Albert the Great Lecture\," Nov 13.
DESCRIPTION:The Harvard-MIT Chapter of SCS is having a Gold Mass\, Reception\, and St. Albert the Great Lecture on Sunday\, Nov 13\, 2022.  The Gold Mass will be at 9:30 AM in the MIT Chapel (48 Massachusetts Ave.\, Cambridge\, MA 02139).  The Reception will start at 10:30 AM and be held in MIT Building W11 (40 Massachusetts Avenue\, Cambridge\, MA 02139) \nThe St. Albert the Great Lecture\, which will start at 11AM in MIT Building W11\, will be given by Prof. Karin Öberg of Harvard University.  Title TBD. \nThis event is funded by the Harvard Catholic Center and a generous grant from the John Templeton Foundation.
URL:https://catholicscientists.org/event/harvard-mit-st-albert-the-great-lecture-nov-8/
CATEGORIES:
ATTACH;FMTTYPE=image/jpeg:https://catholicscientists.org/content/uploads/2022/10/MIT-Chapel.jpg
END:VEVENT
BEGIN:VEVENT
DTSTART;TZID=UTC:20221115T173000
DTEND;TZID=UTC:20221115T173000
DTSTAMP:20260425T152450
CREATED:20221021T174818Z
LAST-MODIFIED:20221216T160125Z
UID:3234-1668533400-1668533400@catholicscientists.org
SUMMARY:Public Lecture at University of Michigan in Ann Arbor\, MI\, on Nov 15.
DESCRIPTION:There will be a Public Lecture at 5:30 pm on Tuesday\, Nov 15\, on the campus of University of Michigan at Ann Arbor\, 1800 CHEM (930 North University Avenue\, Ann Arbor). The lecture is entitled “The Dignity of the Human Person: Perspectives of Faith and Reason\,” and will be given by Dr. Kristin Collier\, MD.   \nAt 7:00 pm there will be a Gold Mass at St. Thomas the Apostle Catholic Church (530 Elizabeth St.\, Ann Arbor\, MI) near the campus of University of Michigan.  The Mass will be in the traditional Latin Rite (“usus antiquior”).  All are welcome! \n The events are sponsored by the SCS\, Catholic Student Evangelization at UM\, and the Ann Arbor Latin Mass Society. For more information\, contact  armallen@umich.edu \nThis event is partially funded by a generous grant from the John Templeton Foundation. \n  \n  \n  \n 
URL:https://catholicscientists.org/event/public-lecture-at-university-of-michigan-in-ann-arbor-mi-on-nov-15/
CATEGORIES:
ATTACH;FMTTYPE=image/jpeg:https://catholicscientists.org/content/uploads/2022/10/chem-building-at-umich.jpg
END:VEVENT
BEGIN:VEVENT
DTSTART;TZID=UTC:20221115T190000
DTEND;TZID=UTC:20221115T200000
DTSTAMP:20260425T152450
CREATED:20221014T221116Z
LAST-MODIFIED:20221216T155435Z
UID:3196-1668538800-1668542400@catholicscientists.org
SUMMARY:Public Lecture at Benedictine College in Atchison\, KS\, on Nov 15\,
DESCRIPTION:There will be a Public Lecture at 7:00 PM on Tuesday\, Nov 15\, on the campus of Benedictine College in Atchison\, KS. (venue TBD). The lecture\, entitled “‘The heavens declare the glory of God’: Catholic Contributions to Astronomy from the Middle Ages to Modernity” will be given by Prof. Christopher Shingledecker of Benedictine College.  Prof. Shingledecker’s team was among the first to use the James Webb Space Telescope and were the first to observe a star-forming region. \nEarlier\, at 5:30 PM\, there will be Gold Mass in St. Benedict’s Abbey Church (1020 N 2nd St\, Atchison\, KS 66002) on the campus of Benedictine College.  The celebrant will be Abbot James Albers\, OSB\, of St. Benedict’s Abbey. After the Mass and before the lecture there will be a reception at 6:30 PM. \nThis event is sponsored by the Kansas City-area Chapter of SCS and is partially funded by a generous grant from the John Templeton Foundation.
URL:https://catholicscientists.org/event/public-lecture-at-benedictine-college-in-atchison-ks-on-nov-15/
CATEGORIES:
ATTACH;FMTTYPE=image/jpeg:https://catholicscientists.org/content/uploads/2022/10/st-benedicts-abbey-church.jpg
END:VEVENT
BEGIN:VEVENT
DTSTART;TZID=UTC:20221115T191500
DTEND;TZID=UTC:20221115T191500
DTSTAMP:20260425T152450
CREATED:20221014T215920Z
LAST-MODIFIED:20221216T155329Z
UID:3194-1668539700-1668539700@catholicscientists.org
SUMMARY:Public Lecture at Benedictine University in Lisle\, IL\, on Nov 15.
DESCRIPTION:There will be a Public Lecture at 7:15 PM  CST on Tuesday\, Nov 15\, in the Kindlon Chapel (4th floor of Kindlon Hall) of Benedictine University Lisle campus (5700 College Road\, Lisle\, Illinois). Dr. Suzen Moeller\, Professor of Health Sciences at North Park University\, will give a talk entitled “We Are What We Eat: Faith\, Reason\, and the Thirst for Meaning”  \nEarlier\, at 6:00 PM CST\, there will be a Gold Mass in the chapel. The celebrant will be Fr. Andrew Buchanan from St. Mary’s Church in West Chicago. After the Mass  and before the lecture there will be a brief reception.  All are welcome at the Gold Mass and the talk! The Mass and talk will also be streamed on Zoom at https://benu.zoom.us/s/81627216656.  For more information\, please reach out to Professor Matthew Wiesner at mwiesner@ben.edu. \nThis event is sponsored by the Benedictine University Chapter of SCS and is partially funded by a generous grant from the John Templeton Foundation.
URL:https://catholicscientists.org/event/public-lecture-at-benedictine-university-in-lisle-il-on-nov-15/
CATEGORIES:
ATTACH;FMTTYPE=image/jpeg:https://catholicscientists.org/content/uploads/2022/10/Benedictine-Univ-chapel-1.jpeg
END:VEVENT
BEGIN:VEVENT
DTSTART;TZID=UTC:20221117T170000
DTEND;TZID=UTC:20221117T170000
DTSTAMP:20260425T152450
CREATED:20220828T220405Z
LAST-MODIFIED:20221027T180444Z
UID:2632-1668704400-1668704400@catholicscientists.org
SUMMARY:Lecture at the University of Tulsa\, Nov 17.
DESCRIPTION:On November 17\, at 5:00 PM CT\, there will be a lecture on the campus of the University of Tulsa in the sanctuary of Sharp Chapel [800 S Tucker Drive\, Tulsa OK\, 74104].  The lecture\, by Prof. Stephen M. Barr\, is entitled “Why Quantum Mechanics Makes Philosophical (and Religious) Sense”.  The lecture will inaugurate a new lecture series in Faith Reason and Science at the University of Tulsa\, which is historically affiliated with the Presbyterian Church.
URL:https://catholicscientists.org/event/lecture-at-the-university-of-tulsa/
CATEGORIES:
ATTACH;FMTTYPE=image/jpeg:https://catholicscientists.org/content/uploads/2022/08/Sharp-Chapel.jpg
END:VEVENT
BEGIN:VEVENT
DTSTART;TZID=UTC:20221127T180000
DTEND;TZID=UTC:20221127T180000
DTSTAMP:20260425T152450
CREATED:20221111T160956Z
LAST-MODIFIED:20221216T154823Z
UID:3621-1669572000-1669572000@catholicscientists.org
SUMMARY:Lecture and Gold Mass in Kraków (Pol.) on Nov 27.
DESCRIPTION:There will be a lecture by Prof. Krzysztof Meissner at 6:00pm (18:00) on Sunday\, Nov 27\, in the Dominican Convent in Kraków\, Polska\, in the Hall of St. Thomas Aquinas.  The title of the lecture is “Fizyk w jaskini światów” (“Physicist in cave of worlds”). \nPreceding the lecture\, there will be a Gold Mass at 5:00pm (17:00)\, in the Chapel of the Convent  The celebrant will be Fr. Mariusz Stopa\, O.P. (a physicist).  This event is sponsored by the Kraków Chapter of the Society of Catholic Scientists and is partially funded by a generous grant from the John Templeton Foundation. \n 
URL:https://catholicscientists.org/event/lecture-and-gold-mass-in-krakow-pol-on-nov-27/
CATEGORIES:
ATTACH;FMTTYPE=image/jpeg:https://catholicscientists.org/content/uploads/2022/11/dominican-church-craxow.jpg
END:VEVENT
END:VCALENDAR