BEGIN:VCALENDAR
VERSION:2.0
PRODID:-//The Society of Catholic Scientists - ECPv6.15.14//NONSGML v1.0//EN
CALSCALE:GREGORIAN
METHOD:PUBLISH
X-ORIGINAL-URL:https://catholicscientists.org
X-WR-CALDESC:Events for The Society of Catholic Scientists
REFRESH-INTERVAL;VALUE=DURATION:PT1H
X-Robots-Tag:noindex
X-PUBLISHED-TTL:PT1H
BEGIN:VTIMEZONE
TZID:UTC
BEGIN:STANDARD
TZOFFSETFROM:+0000
TZOFFSETTO:+0000
TZNAME:UTC
DTSTART:20210101T000000
END:STANDARD
END:VTIMEZONE
BEGIN:VEVENT
DTSTART;TZID=UTC:20221029T183000
DTEND;TZID=UTC:20221029T183000
DTSTAMP:20260425T165408
CREATED:20220930T205616Z
LAST-MODIFIED:20221216T162153Z
UID:3032-1667068200-1667068200@catholicscientists.org
SUMMARY:Symposium on “Catholic Scientists\, Expertise\, and Bioethics”\, Birmingham\, AL\, on Oct 29.
DESCRIPTION:There will be a Symposium in Birmingham\, AL\, on “Catholic Scientists\, Expertise\, and Bioethics” on Saturday\, October 29th at 6:30 pm in Our Lady of Sorrows Parish Hall (1728 Oxmoor Rd\, Homewood\, AL 35209.) \nSynopsis: This event will feature three distinguished guests discussing the beauty and challenges facing God’s people concerning science\, expertise\, bioethics and definitions of life. Dr. Joshua Reeves\, PhD\, will explore what supports and inhibits the people of the church from listening to experts. What is an expert and how is an expert different from the scientific consensus? Deacon Neal Kay\, M.D. will then focus on the challenges of making moral choices concerning modern biology and medicine and its impact on daily life. We will close with renowned embryologist\,  Dr. Maureen Condic\, PhD\, presenting how biological organization affects the “humanness” of biological material such as cells\, organs\, to grown person. Dr. Condic is a member of the Board of Directors of SCS. The discussion will be moderated by Paul Wiget\, PhD\, President of the Society of Catholic Scientists Birmingham Chapter\, which is sponsoring the event. \nHors d’oeuvres\, Beer\, Wine\, and non-alcoholic beverages will be served. \nThis event is sponsored by the Birmingham Chapter of SCS and is partially funded by a generous grant from the John Templeton Foundation.
URL:https://catholicscientists.org/event/symposium-on-catholic-scientists-expertise-and-bioethics-birmingham-al/
CATEGORIES:
ATTACH;FMTTYPE=image/jpeg:https://catholicscientists.org/content/uploads/2022/09/Our-Lady-of-Sorrows.jpg
END:VEVENT
END:VCALENDAR