BEGIN:VCALENDAR
VERSION:2.0
PRODID:-//The Society of Catholic Scientists - ECPv6.15.14//NONSGML v1.0//EN
CALSCALE:GREGORIAN
METHOD:PUBLISH
X-WR-CALNAME:The Society of Catholic Scientists
X-ORIGINAL-URL:https://catholicscientists.org
X-WR-CALDESC:Events for The Society of Catholic Scientists
REFRESH-INTERVAL;VALUE=DURATION:PT1H
X-Robots-Tag:noindex
X-PUBLISHED-TTL:PT1H
BEGIN:VTIMEZONE
TZID:America/Mexico_City
BEGIN:STANDARD
TZOFFSETFROM:-0600
TZOFFSETTO:-0600
TZNAME:CST
DTSTART:20240101T000000
END:STANDARD
END:VTIMEZONE
BEGIN:VEVENT
DTSTART;VALUE=DATE:20250927
DTEND;VALUE=DATE:20250928
DTSTAMP:20260423T113054
CREATED:20250729T232758Z
LAST-MODIFIED:20250905T140448Z
UID:11418-1758931200-1759017599@catholicscientists.org
SUMMARY:Conference of New Mexico Regional Chapter of SCS on September 27\, 2025.
DESCRIPTION:The New Mexico Chapter of SCS is holding a regional conference on Saturday\, September 27 in Los Alamos\, NM. \nThe conference will be held at the SALA Event Center in downtown Los Alamos\, NM. \nProgram \nFull information about the conference and how to register can be found HERE at the conference website. \nThere will be a full day of invited talks\, on topics chosen from various fields of science and philosophy that have ethical implications of contemporary interest.  Our invited speakers are Prof Martin Nowak and Prof Stephen Barr. \nTalks will be recorded and posted online\, but not live-streamed. \n 
URL:https://catholicscientists.org/event/conference-of-new-mexico-regional-chapter-of-scs-on-september-27-2025/
CATEGORIES:
ATTACH;FMTTYPE=image/jpeg:https://catholicscientists.org/content/uploads/2025/07/los-alamos-nm.jpg
END:VEVENT
END:VCALENDAR