BEGIN:VCALENDAR
VERSION:2.0
PRODID:-//The Society of Catholic Scientists - ECPv6.15.14//NONSGML v1.0//EN
CALSCALE:GREGORIAN
METHOD:PUBLISH
X-ORIGINAL-URL:https://catholicscientists.org
X-WR-CALDESC:Events for The Society of Catholic Scientists
REFRESH-INTERVAL;VALUE=DURATION:PT1H
X-Robots-Tag:noindex
X-PUBLISHED-TTL:PT1H
BEGIN:VTIMEZONE
TZID:America/New_York
BEGIN:DAYLIGHT
TZOFFSETFROM:-0500
TZOFFSETTO:-0400
TZNAME:EDT
DTSTART:20240310T070000
END:DAYLIGHT
BEGIN:STANDARD
TZOFFSETFROM:-0400
TZOFFSETTO:-0500
TZNAME:EST
DTSTART:20241103T060000
END:STANDARD
BEGIN:DAYLIGHT
TZOFFSETFROM:-0500
TZOFFSETTO:-0400
TZNAME:EDT
DTSTART:20250309T070000
END:DAYLIGHT
BEGIN:STANDARD
TZOFFSETFROM:-0400
TZOFFSETTO:-0500
TZNAME:EST
DTSTART:20251102T060000
END:STANDARD
BEGIN:DAYLIGHT
TZOFFSETFROM:-0500
TZOFFSETTO:-0400
TZNAME:EDT
DTSTART:20260308T070000
END:DAYLIGHT
BEGIN:STANDARD
TZOFFSETFROM:-0400
TZOFFSETTO:-0500
TZNAME:EST
DTSTART:20261101T060000
END:STANDARD
END:VTIMEZONE
BEGIN:VEVENT
DTSTART;TZID=America/New_York:20250306T084500
DTEND;TZID=America/New_York:20250306T143000
DTSTAMP:20260423T203805
CREATED:20241024T190030Z
LAST-MODIFIED:20250215T040559Z
UID:9131-1741250700-1741271400@catholicscientists.org
SUMMARY:2025 St. Albert Initiative on Science and the Catholic Faith in Louisville\, KY.
DESCRIPTION:March 6\, 2025\, at 8:45 am – 2:30 pm \nThe 2025 St. Albert Initiative will be held at Bellarmine University in Louiscille\, KY\, on Thursday\, March 6\, 2025\, from 8:45 am to 2:30 pm.   (Light breakfast and sign-in at 8:45am. Events start at 9:15am). \nThe St. Albert Initiative is a half-day program on science and faith for Catholic high school students\, teachers\, and parents as well as the general public (high school age and above).  It will feature short talks by Catholic scientists and the opportunity to meet\, eat with\, and ask questions of Catholic scientists in many fields and at various stages of their careers. \nFour previous St. Albert Initiatives have been held: one in Washington\, DC. in November 2021; one in Chicago in February\, 2022; one in Philadelphia in March 2023; and one in New Orleans in February\, 2024.  The response from attendees at all those events\, both students and adults\, was extremely positive. \nNearly complete Information about the Event can be found HERE\, including its Schedule and Program and brief biographies of the speakers and presenters. \nAS THE MAXIMUM CAPACITY OF 465 REGISTRANTS HAS BEEN REACHED\,  REGISTRATION HAS BEEN CLOSED. \nThis event is co-sponsored by the McGrath Institute for Church Life and made possible by a generous grant from the John Templeton Foundation. \n 
URL:https://catholicscientists.org/event/2025-st-albert-initiative-on-science-and-the-catholic-faith-in-louisville-ky/
CATEGORIES:
ATTACH;FMTTYPE=image/jpeg:https://catholicscientists.org/content/uploads/2024/10/bellarmine-university.jpg
END:VEVENT
END:VCALENDAR