BEGIN:VCALENDAR
VERSION:2.0
PRODID:-//The Society of Catholic Scientists - ECPv6.15.14//NONSGML v1.0//EN
CALSCALE:GREGORIAN
METHOD:PUBLISH
X-WR-CALNAME:The Society of Catholic Scientists
X-ORIGINAL-URL:https://catholicscientists.org
X-WR-CALDESC:Events for The Society of Catholic Scientists
REFRESH-INTERVAL;VALUE=DURATION:PT1H
X-Robots-Tag:noindex
X-PUBLISHED-TTL:PT1H
BEGIN:VTIMEZONE
TZID:UTC
BEGIN:STANDARD
TZOFFSETFROM:+0000
TZOFFSETTO:+0000
TZNAME:UTC
DTSTART:20230101T000000
END:STANDARD
END:VTIMEZONE
BEGIN:VEVENT
DTSTART;TZID=UTC:20240307T170000
DTEND;TZID=UTC:20240308T180000
DTSTAMP:20260424T154735
CREATED:20240303T004200Z
LAST-MODIFIED:20240303T004246Z
UID:7459-1709830800-1709920800@catholicscientists.org
SUMMARY:Symposium on AI (of COLLIS Institute\, SCS\, and Thomistic Institute) at Cornell University on March 7-8\, 2024.
DESCRIPTION:COLLIS Institute for Catholic Thought and Culture\, the Society of Catholic Scientists\, and the Thomistic Institute are excited to announce\, “Words\, Images\, Reality: A Symposium on Living with Artificial Intelligence\,” March 7-8. The Symposium will include events on computer science\, law\, and theology\, as well as a pizza party for Catholics who Code!  For more information visit collisinstitute.org/ai-symposium \nEvents: \nMarch 7\, 5:00pm-6:00pm: “Artificial Intelligence: whose image is this?”\, Michael Totaro (Computer Science\, Univ. of Louisiana at Lafayette). \nMarch 7\, 6:30pm-7:30pm: Catholics Who Code Pizza Party. \nMarch 8\, 1:00pm-2:00pm: “The Regulation of Simulation in an Era of Generative AI”\, Frank Pasquale (Cornell Tech). \nMarch 8\, 4:30pm-6:00pm: “Beyond Words: What CHATGPT Can’t Say”\, Jane Sloane Peters (Theology\, Mt. St. Vincent University)
URL:https://catholicscientists.org/event/symposium-on-ai-of-collis-institute-scs-and-thomistic-institute-at-cornell-university-on-march-7-8-2024/
CATEGORIES:,,
ATTACH;FMTTYPE=image/jpeg:https://catholicscientists.org/content/uploads/2024/03/cornell-university-campus.jpg
END:VEVENT
END:VCALENDAR