BEGIN:VCALENDAR
VERSION:2.0
PRODID:-//The Society of Catholic Scientists - ECPv6.15.14//NONSGML v1.0//EN
CALSCALE:GREGORIAN
METHOD:PUBLISH
X-ORIGINAL-URL:https://catholicscientists.org
X-WR-CALDESC:Events for The Society of Catholic Scientists
REFRESH-INTERVAL;VALUE=DURATION:PT1H
X-Robots-Tag:noindex
X-PUBLISHED-TTL:PT1H
BEGIN:VTIMEZONE
TZID:UTC
BEGIN:STANDARD
TZOFFSETFROM:+0000
TZOFFSETTO:+0000
TZNAME:UTC
DTSTART:20220101T000000
END:STANDARD
END:VTIMEZONE
BEGIN:VEVENT
DTSTART;TZID=UTC:20230325T090000
DTEND;TZID=UTC:20230325T153000
DTSTAMP:20260425T102622
CREATED:20221206T164839Z
LAST-MODIFIED:20221221T154047Z
UID:3981-1679734800-1679758200@catholicscientists.org
SUMMARY:2023 St. Albert Initiative on Science and the Catholic Faith in Philadelphia\, PA.
DESCRIPTION:The 2023 St. Albert Initiative will be held at St. Joseph’s Prep in Philadelphia\, PA\, on Saturday\, March 25\, 2023\, from 9am to 3:30pm.   (Light breakfast and sign-in at 9:00am. Events start at 9:45am). \nThe St. Albert Initiative is a half-day program on science and faith for Catholic high school students\, teachers\, and parents as well as the general public (high school age and above).  It will feature short talks by Catholic scientists and the opportunity to meet\, eat with\, and ask questions of Catholic scientists in many fields and at various stages of their careers. \nTwo previous St. Albert Initiatives have been held\, one in Washington\, DC\, in November 2021 and one in Chicago in February\, 2022.  The response from attendees at both those events\, both students and adults\, was extremely positive. \nNearly complete Information about the Event can be found HERE\, including its Schedule and Program and brief biographies of the speakers and presenters\, and how to register. \nRegistration for the event will open in January. \nThis event is co-sponsored by the McGrath Institute for Church Life and the Collegium Institute and made possible by generous grants from the John Templeton Foundation.
URL:https://catholicscientists.org/event/2023-st-albert-initiative-on-science-and-the-catholic-faith-in-philadelphia-pa/
CATEGORIES:
ATTACH;FMTTYPE=image/jpeg:https://catholicscientists.org/content/uploads/2022/12/St-joes-prep-chapel.jpg
END:VEVENT
END:VCALENDAR