BEGIN:VCALENDAR
VERSION:2.0
PRODID:-//The Society of Catholic Scientists - ECPv6.15.14//NONSGML v1.0//EN
CALSCALE:GREGORIAN
METHOD:PUBLISH
X-ORIGINAL-URL:https://catholicscientists.org
X-WR-CALDESC:Events for The Society of Catholic Scientists
REFRESH-INTERVAL;VALUE=DURATION:PT1H
X-Robots-Tag:noindex
X-PUBLISHED-TTL:PT1H
BEGIN:VTIMEZONE
TZID:Europe/Helsinki
BEGIN:DAYLIGHT
TZOFFSETFROM:+0200
TZOFFSETTO:+0300
TZNAME:EEST
DTSTART:20210328T010000
END:DAYLIGHT
BEGIN:STANDARD
TZOFFSETFROM:+0300
TZOFFSETTO:+0200
TZNAME:EET
DTSTART:20211031T010000
END:STANDARD
BEGIN:DAYLIGHT
TZOFFSETFROM:+0200
TZOFFSETTO:+0300
TZNAME:EEST
DTSTART:20220327T010000
END:DAYLIGHT
BEGIN:STANDARD
TZOFFSETFROM:+0300
TZOFFSETTO:+0200
TZNAME:EET
DTSTART:20221030T010000
END:STANDARD
BEGIN:DAYLIGHT
TZOFFSETFROM:+0200
TZOFFSETTO:+0300
TZNAME:EEST
DTSTART:20230326T010000
END:DAYLIGHT
BEGIN:STANDARD
TZOFFSETFROM:+0300
TZOFFSETTO:+0200
TZNAME:EET
DTSTART:20231029T010000
END:STANDARD
END:VTIMEZONE
BEGIN:VEVENT
DTSTART;TZID=Europe/Helsinki:20220915T183000
DTEND;TZID=Europe/Helsinki:20220917T180000
DTSTAMP:20260425T200950
CREATED:20220828T202027Z
LAST-MODIFIED:20221216T162257Z
UID:2616-1663266600-1663437600@catholicscientists.org
SUMMARY:Conference of SCS Spanish Regional Chapter
DESCRIPTION:This is the inaugural conference of the Spanish Regional Chapter of SCS (Sección Española de la Society of Catholic Scientists). \nIt will be held at the Instituto Cultura y Sociedad\, in Pamplona\, Spain\, from 18:30 CEST on September 15 to 18:00 CEST on September 17\, 2022.   Information about the conference\, including its complete program\, can be found on the conference website  https://www.unav.edu/web/congreso-society-catholic-scientists-spain  (English language version : https://en.unav.edu/web/congreso-society-catholic-scientists-spain) The conference talks (all of which\, except the first\, will be in Spanish) will be live streamed.  Note that the times of the conference given above are in local time\, which is Central European Summer Time (CEST) = GMT +2. \nPictures and bios of the speakers can be found HERE. \nLocation of the conference can be found here:  https://www.unav.edu/web/congreso-society-catholic-scientists-spain/viaje \nThis conference is partially funded by a generous grant from the John Templeton Foundation.
URL:https://catholicscientists.org/event/conference-of-scs-spanish-regional-chapter/
CATEGORIES:
ATTACH;FMTTYPE=image/jpeg:https://catholicscientists.org/content/uploads/2022/05/Universidad_de_navarra.jpg
ORGANIZER;CN="Prof. Javier S%C3%A1nchez-Ca%C3%B1izares":MAILTO:congresoscsesp@unav.es
END:VEVENT
END:VCALENDAR